Workbook

Sheet 調査票
N2: 集計欄
B3: 南陽市下水道事業における水の官民連携（ウォーターＰＰＰ） | N3: （いじらないでください） | W3: 〇
B4: に関するアンケート調査票 | W4: ×
B5: 本市下水道事業を取り巻く状況は、将来的に、施設の老朽化に伴う維持・更新事業の増大や少子高齢化による職員の減少に伴うサービス水準の低下が想定されています。 このため、当市では、今後の維持管理および改築の効率化、経営の改善のため、水の官民連携（以下、ウォーターＰＰＰ）の導入を視野に入れています。 このアンケートは、ウォーターＰＰＰ等の官民連携方式について、想定スキーム(目的を遂行するための枠組み、構想)に対する民間企業の皆さまの参入意欲やご意見等を把握し、本市のウォーターＰＰＰのスキーム検討に活用することを目的としています。 お忙しいところ大変恐縮ですが、アンケートにご協力をいただきますようよろしくお願い申し上げます。
B14: 【アンケート記入担当者及び連絡先】 | N14: 回答業者名
B15: 貴社名 | N15: =D15 -> 0
B16: 部署名 | N16: =D16 -> 0
B17: ご住所
B18: ご担当者名 | N18: =D18 -> 0
B19: ご連絡先 | C19: TEL
C20: E-Mail
B22: ＜留意事項＞
B23: ・本調査は、今後の南陽市におけるウォーターPPPの導入の可能性を含め、いかなる発注、計画等が行われることを保証するものではありません。 ・この調査での回答内容は、何ら法的拘束力を持つものではありません。あくまで記入時点での意見として承ります。 ・ご回答いただいた個人情報は非公開とし、取扱いには十分注意し、南陽市下水道事業へのウォーターPPP導入に関する検討以外の使用はいたしません。 ・回答内容については個人または法人が特定されない形で公表する場合があります。ただしその場合でも、提案にかかわる部分、競争性に関係する部分等、今後の検討や事業化に影響がある部分は非公開とします。 ・本調査の回答にかかる費用等は事業者様のご負担とします。 ・本件調査については、本市は株式会社NJSに業務を委託しており、同社が問い合わせについて対応する場合があります。 ・回答の意図を明確化する目的で、別途インタビュー（文書照会含む）を実施させていただく場合がございますので、その場合にはご協力のほどお願いします。
B35: アンケート回答のご提出方法
B36: 令和8年11月13日（金）17:30までに、記入したExcel ファイルを（変換等せずにそのままの形式で）
B37: 以下のメールアドレスあてに返送お願いします。
B38: E-mailアドレス jogesui4@city.nanyo.yamagata.jp
B39: 南陽市 上下水道課 下水道係 あて
B40: ※メールの件名に、「ウォーターＰＰＰアンケート回答（●●社）」と記載ください。
I42: ＜本アンケートに関する問い合わせ先＞
H43: 南陽市役所 上下水道課 下水道係
H44: 〒999-2292 山形県南陽市三間通436-1
H45: TEL:0238-40-8436 FAX:0238-40-2909
H46: E-Mail:jogesui4@city.nanyo.yamagata.jp
H48: 株式会社NJS 仙台事務所（担当：石田、伊藤、間瀬）（本業務受託企業）
H49: 〒980-0802 宮城県仙台市青葉区二日町9番7号
H50: TEL:022-266-2821 FAX:022-266-2824
H51: E-Mail：nannyou_gesui@njs.co.jp
H52: ※問い合わせ時には、双方にご連絡いただければ迅速な対応が可能となります。
B53: ・水色塗りの箇所に記入ください
B55: ※ウォーターＰＰＰの制度概要については、下記をご参照ください。
B56: ・ウォーターPPPの概要（内閣府ホームページ）
B57: https://www8.cao.go.jp/pfi/actionplan/pdf/water_gaiyou.pdf
B58: ・官民連携（ＰＰＰ／ＰＦＩ）の活用（国土交通省ホームページ）
B59: https://www.mlit.go.jp/mizukokudo/sewerage/mizukokudo_sewerage_tk_000585.html
B61: １．参入意向について
B62: 1-1.南陽市がウォーターPPP等を導入する場合、参入または参入を検討したいと思いますか。本市のアンケート調査概要資料を確認した上で、該当する箇所に〇を記入してください。 | N62: 1-1
C63: 参入または参入検討をしたいと思う | N63: =IF(B63=$W$3,B63,"")
C64: 参入または参入検討をしたいとは思わない | N64: =IF(B64=$W$3,B64,"")
C65: 現時点では不明 | N65: =IF(B65=$W$3,B65,"")
...

Sheet 処理欄（記入不要です）
G1: １．参入意向について | K1: ２．希望する業務、対応方法及び実績 | EA1: ２．希望する業務、対応方法及び実績 | JU1: ２．希望する業務、対応方法及び実績 | JW1: ３．希望する対象処理区 | KE1: ４．希望する対象施設 | KW1: ５．希望する体制、方式及び配慮を希望する事項 | LG1: 6．ウォーターPPPの４要件他に関する意見、要望、課題等 | LL1: 7．ウォーターＰＰＰに関する課題・ご意見等 | MB1: ８．今後のウォーターＰＰＰ検討に関する要望・ご意見等
G2: 1-1.宮崎市がウォーターＰＰＰ等を導入する場合、参入または参入を検討したいと思いますか。本市の事業概要資料を確認した上で、該当する箇所に〇を記入してください。 | K2: 本事業は下記の複数業務が候補予定です。下記のうち、「①本業務で希望する業務（ウォーターPPPに含めてほしい業務/含めても問題ない業務）」「②対応方法」、「③類似業務実績」について、該当する箇所に「〇」をご記入ください。また、本事業で希望する業務を選んだ理由・選ばなかった理由・今回のアンケートでは回答できない場合はその理由を「④選択した理由など」にご記入ください。アンケートは管路施設、処理場等に関する業務についてそれぞれ回答してください。各業務の定義や想定数量は事業概要をご確認ください。 2-1.【管路施設に関する業務】 | EA2: 本事業は下記の複数業務が候補予定です。下記のうち、「①本業務で希望する業務（ウォーターPPPに含めてほしい業務/含めても問題ない業務）」「②対応方法」、「③類似業務実績」について、該当する箇所に「〇」をご記入ください。また、本事業で希望する業務を選んだ理由・選ばなかった理由・今回のアンケートでは回答できない場合はその理由を「④選択した理由など」にご記入ください。アンケートは管路施設、処理場等に関する業務についてそれぞれ回答してください。各業務の定義や想定数量は事業概要をご確認ください。 2-2.【処理場等（終末処理場、ポンプ場、マンホールポンプ）に関する業務】 | JU2: 2-3.対象業務について、懸念点や市に配慮を望む事項があれば、理由と合わせてご記入ください。 | JW2: 3-1.ウォーターＰＰＰへ参入する場合に、貴社が希望する処理区についてお答えください。（複数回答可） | KC2: 3-2.対象処理区について、懸念点や市に配慮を望む事項があれば、理由と合わせてご記入ください。 | KE2: 4-1.ウォーターＰＰＰへ参入する場合に、貴社が希望する施設についてお答えください。（複数回答可） | KO2: 4-2.ウォーターＰＰＰの検討対象施設には、前項のように、大きくは①管路施設と、②処理場等施設の2つのカテゴリがあります。これらについて、一体的に実施することについて、貴社のお考えにあてはまるものに○をつけてください。また、追加・除外を希望する業務があれば、その内容と理由を自由に記述ください。 | KU2: 4-3.対象施設について、懸念点や市に配慮を望む事項があれば、理由と合わせてご記入ください。 | KW2: 5-1.ウォーターＰＰＰへ参入する場合に、貴社が想定している（可能性がある）体制についてお答えください。（複数回答可） | LB2: 5-2.和歌山市下水道事業がウォーターＰＰＰ等を導入すると仮定した場合、貴社が希望する官民連携事業方式について回答してください。（複数回答可） | LF2: 5-3.更新実施型とする場合、各年度の更新工事規模を交付金の内示を上限額として縮小するスキームを採用する可能性があります。本スキームを採用した場合の課題や意見等をご回答ください | LG2: 6-1.ウォーターPPPの４要件他に関する意見、参加意欲向上のための要望、課題等について、自由に記入ください。 | LL2: 7-1.和歌山市上下水道事業がウォーターＰＰＰを導入する場合、貴社の参入または参入の検討における懸念点や不安点についてお答えください。（複数回答可） ※設問1で「参入または参入検討をしたいとは思わない」を選択した場合でも、該当する課題等があれば、ご回答ください。 | MB2: 8-1.事業の公募へ参加するにあたり、発注者から事前に開示される資料や情報のうち、重視するものをお答えください。（重視されると回答された情報が必ず公開されるものではありません）（複数回答可） | MO2: 8-2.今後、事業費積算に向けて、見積もりを依頼する場合があります。その場合に、ご協力をいただくことは可能でしょうか。 | MU2: 8-3.今後、今回と同様にアンケート、ヒアリング等を行う可能性があります。その場合に、ご協力をいただくことは可能でしょうか。
A3: 会社名 | B3: 部署名 | C3: ご住所 | D3: ご担当者名 | E3: ご担当者名 | F3: E-Mail | G3: 参入または参入検討をしたいと思う | H3: 参入または参入検討をしたいとは思わない | I3: 現時点では不明 | J3: その他 | K3: - | Q3: 住民対応業務 | W3: 住民対応業務 | AC3: 住民対応業務 | AI3: 住民対応業務 | AO3: 住民対応業務 | AU3: 問題解決業務 | BA3: 問題解決業務 | BG3: 計画的業務 | BM3: 計画的業務 | BS3: 計画的業務 | BY3: 計画的業務 | CE3: 災害対応業務 | CK3: 災害対応業務 | CQ3: 更新計画策定・更新(改築）業務 | CW3: 更新計画策定・更新(改築）業務 | DC3: 更新計画策定・更新(改築）業務 | DI3: 更新計画策定・更新(改築）業務 | DO3: 更新計画策定・更新(改築）業務 | DU3: 更新計画策定・更新(改築）業務 | EA3: - | EG3: レベル1 | EM3: レベル1 | ES3: レベル1 | EY3: レベル1 | FE3: レベル1 | FK3: レベル1 | FQ3: レベル1 | FW3: レベル1 | GC3: 災害対応業務 | GI3: 災害対応業務 | GO3: その他の業務 | GU3: その他の業務 | HA3: その他の業務 | HG3: 物品等の調達及び管理に関する業務 | HM3: レベル2 | HS3: レベル2.5～レベル3 | HY3: レベル2.5～レベル3 | IE3: 更新計画策定・更新(改築）業務 | IK3: 更新計画策定・更新(改築）業務 | IQ3: 更新計画策定・更新(改築）業務 | IW3: 更新計画策定・更新(改築）業務 | JC3: 更新計画策定・更新(改築）業務 | JI3: 更新計画策定・更新(改築）業務 | JO3: 更新計画策定・更新(改築）業務
K4: 統括管理業務 | Q4: 住民窓口 （市全域を想定しています) | W4: 住民等通報後の現場確認及び対応判断 | AC4: 緊急清掃 | AI4: 緊急修繕 | AO4: 他工事立会等 | AU4: 不明水対策 | BA4: 悪臭対策 | BG4: 点検調査業務 | BM4: 定期清掃業務 | BS4: 計画修繕業務 | BY4: 台帳システムへの情報登録業務 | CE4: 被災状況把握業務 | CK4: 緊急措置対応業務 | CQ4: 更新計画(ストックマネジメント計画）策定業務 | CW4: コンストラクション・マネジメント | DC4: 改築設計業務 | DI4: 改築積算業務 | DO4: 改築工事(更生) | DU4: 改築工事(布設替え) | EA4: 統括管理業務 | EG4: 運転監視操作業務 | EM4: 保守点検業務 | ES4: 軽易な修理造作 | EY4: 小規模修繕 | FE4: 検査分析業務 | FK4: 一般廃棄物の収集運搬業務 | FQ4: 産業廃棄物の収集運搬業務 | FW4: 防火・清掃業務 | GC4: 被災状況把握業務 | GI4: 緊急措置対応業務 | GO4: 活性炭再生業務 （和歌川終末処理場） | GU4: 脱色施設運転管理業務 （和歌川終末処理場） | HA4: 台帳システムへの情報 登録業務 | HG4: 備消耗品・燃料調達業務 | HM4: 電気、通信費等の公共料金支払業務 | HS4: 修繕計画案作成業務 | HY4: 修繕業務（分解を伴う） | IE4: 更新計画(ストックマネジメント計画）策定業務 | IK4: コンストラクション・マネジメント | IQ4: 改築実施設計業務 | IW4: 改築積算業務 | JC4: 改築工事(土木・建築) | JI4: 改築工事(機械) | JO4: 改築工事(電気) | LG4: 10年の長期契約について | LH4: 性能発注について | LI4: 維持管理と更新の一体マネジメントについて | LJ4: プロフィットシェアについて | LK4: その他、ウォーターPPPに関する要望等 | LL4: 懸念点や不安点は特に無い | LM4: 事業規模が過大、もしくは過小であると考えられる。 | LN4: 管路と処理場等の一体化に不安がある | LO4: ウォーターＰＰＰの対象施設や業務範囲によっては、ノウハウ不足などの懸念がある | LP4: 住民窓口の対象を市全域と想定していることに対して懸念がある。 | LQ4: 事業期間に懸念点がある。（レベル3.5の場合、原則10年） | LR4: 現在の運転管理や維持管理に関する情報が不足している。 | LS4: 施設の劣化状況が不明確である。 | LT4: プロポーザルや業務実施期間内において、提案できる範囲や内容に限りがある | LU4: 事業実施のための人員を確保できない | LV4: 応募グループを構成したり、構成員になることが困難である | LW4: 中小企業や県内・市内業者との連携が不安である | LX4: 大規模企業との連携が不安である | LY4: 引継ぎ期間が確保されるか不安がある | LZ4: 入札要件に不安がある。（厳しい条件になりすぎないか等） | MA4: その他自由記述欄 | MB4: 下水道管路台帳（管路施設の情報） | MC4: 下水道管路台帳（管路施設の維持管理情報） | MD4: 下水道施設台帳（処理場施設、ポンプ場、マンホールポンプの情報） | ME4: 下水道施設台帳（処理場施設、ポンプ場、マンホールポンプの維持管理情報） | MF4: ストックマネジメント計画、機能保全計画 | MG4: 経営指標・財政情報 | MH4: 組織構成・人的資本情報 | MI4: 住民対応件数（下水道事業/河川事業等の内訳含む受付件数） | MJ4: 処理水量・水質情報・放流先情報 | MK4: 消費電力等のエネルギー情報 | ML4: 過年度の工事・改築・修繕実績 | MM4: 過年度の災害情報・被災情報・BCP等の資料 | MN4: その他 | MO4: 対応可能 | MP4: 場合によっては対応可能 | MQ4: できれば避けたい | MR4: 対応は難しい | MS4: その他 | MT4: 理由、要望、条件など | MU4: 対応可能 | MV4: 場合によっては対応可能 | MW4: できれば避けたい | MX4: 対応は難しい | MY4: その他 | MZ4: 理由、要望、条件など
K5: ①本事業で希望する業務 | L5: ②対応方法 | N5: ③類似業務実績 | P5: ④選択した理由など （自由記述） | Q5: ①本事業で希望する業務 | R5: ②対応方法 | T5: ③類似業務実績 | V5: ④選択した理由など （自由記述） | W5: ①本事業で希望する業務 | X5: ②対応方法 | Z5: ③類似業務実績 | AB5: ④選択した理由など （自由記述） | AC5: ①本事業で希望する業務 | AD5: ②対応方法 | AF5: ③類似業務実績 | AH5: ④選択した理由など （自由記述） | AI5: ①本事業で希望する業務 | AJ5: ②対応方法 | AL5: ③類似業務実績 | AN5: ④選択した理由など （自由記述） | AO5: ①本事業で希望する業務 | AP5: ②対応方法 | AR5: ③類似業務実績 | AT5: ④選択した理由など （自由記述） | AU5: ①本事業で希望する業務 | AV5: ②対応方法 | AX5: ③類似業務実績 | AZ5: ④選択した理由など （自由記述） | BA5: ①本事業で希望する業務 | BB5: ②対応方法 | BD5: ③類似業務実績 | BF5: ④選択した理由など （自由記述） | BG5: ①本事業で希望する業務 | BH5: ②対応方法 | BJ5: ③類似業務実績 | BL5: ④選択した理由など （自由記述） | BM5: ①本事業で希望する業務 | BN5: ②対応方法 | BP5: ③類似業務実績 | BR5: ④選択した理由など （自由記述） | BS5: ①本事業で希望する業務 | BT5: ②対応方法 | BV5: ③類似業務実績 | BX5: ④選択した理由など （自由記述） | BY5: ①本事業で希望する業務 | BZ5: ②対応方法 | CB5: ③類似業務実績 | CD5: ④選択した理由など （自由記述） | CE5: ①本事業で希望する業務 | CF5: ②対応方法 | CH5: ③類似業務実績 | CJ5: ④選択した理由など （自由記述） | CK5: ①本事業で希望する業務 | CL5: ②対応方法 | CN5: ③類似業務実績 | CP5: ④選択した理由など （自由記述） | CQ5: ①本事業で希望する業務 | CR5: ②対応方法 | CT5: ③類似業務実績 | CV5: ④選択した理由など （自由記述） | CW5: ①本事業で希望する業務 | CX5: ②対応方法 | CZ5: ③類似業務実績 | DB5: ④選択した理由など （自由記述） | DC5: ①本事業で希望する業務 | DD5: ②対応方法 | DF5: ③類似業務実績 | DH5: ④選択した理由など （自由記述） | DI5: ①本事業で希望する業務 | DJ5: ②対応方法 | DL5: ③類似業務実績 | DN5: ④選択した理由など （自由記述） | DO5: ①本事業で希望する業務 | DP5: ②対応方法 | DR5: ③類似業務実績 | DT5: ④選択した理由など （自由記述） | DU5: ①本事業で希望する業務 | DV5: ②対応方法 | DX5: ③類似業務実績 | DZ5: ④選択した理由など （自由記述） | EA5: ①本事業で希望する業務 | EB5: ②対応方法 | ED5: ③類似業務実績 | EF5: ④選択した理由など （自由記述） | EG5: ①本事業で希望する業務 | EH5: ②対応方法 | EJ5: ③類似業務実績 | EL5: ④選択した理由など （自由記述） | EM5: ①本事業で希望する業務 | EN5: ②対応方法 | EP5: ③類似業務実績 | ER5: ④選択した理由など （自由記述） | ES5: ①本事業で希望する業務 | ET5: ②対応方法 | EV5: ③類似業務実績 | EX5: ④選択した理由など （自由記述） | EY5: ①本事業で希望する業務 | EZ5: ②対応方法 | FB5: ③類似業務実績 | FD5: ④選択した理由など （自由記述） | FE5: ①本事業で希望する業務 | FF5: ②対応方法 | FH5: ③類似業務実績 | FJ5: ④選択した理由など （自由記述） | FK5: ①本事業で希望する業務 | FL5: ②対応方法 | FN5: ③類似業務実績 | FP5: ④選択した理由など （自由記述） | FQ5: ①本事業で希望する業務 | FR5: ②対応方法 | FT5: ③類似業務実績 | FV5: ④選択した理由など （自由記述） | FW5: ①本事業で希望する業務 | FX5: ②対応方法 | FZ5: ③類似業務実績 | GB5: ④選択した理由など （自由記述） | GC5: ①本事業で希望する業務 | GD5: ②対応方法 | GF5: ③類似業務実績 | GH5: ④選択した理由など （自由記述） | GI5: ①本事業で希望する業務 | GJ5: ②対応方法 | GL5: ③類似業務実績 | GN5: ④選択した理由など （自由記述） | GO5: ①本事業で希望する業務 | GP5: ②対応方法 | GR5: ③類似業務実績 | GT5: ④選択した理由など （自由記述） | GU5: ①本事業で希望する業務 | GV5: ②対応方法 | GX5: ③類似業務実績 | GZ5: ④選択した理由など （自由記述） | HA5: ①本事業で希望する業務 | HB5: ②対応方法 | HD5: ③類似業務実績 | HF5: ④選択した理由など （自由記述） | HG5: ①本事業で希望する業務 | HH5: ②対応方法 | HJ5: ③類似業務実績 | HL5: ④選択した理由など （自由記述） | HM5: ①本事業で希望する業務 | HN5: ②対応方法 | HP5: ③類似業務実績 | HR5: ④選択した理由など （自由記述） | HS5: ①本事業で希望する業務 | HT5: ②対応方法 | HV5: ③類似業務実績 | HX5: ④選択した理由など （自由記述） | HY5: ①本事業で希望する業務 | HZ5: ②対応方法 | IB5: ③類似業務実績 | ID5: ④選択した理由など （自由記述） | IE5: ①本事業で希望する業務 | IF5: ②対応方法 | IH5: ③類似業務実績 | IJ5: ④選択した理由など （自由記述） | IK5: ①本事業で希望する業務 | IL5: ②対応方法 | IN5: ③類似業務実績 | IP5: ④選択した理由など （自由記述） | IQ5: ①本事業で希望する業務 | IR5: ②対応方法 | IT5: ③類似業務実績 | IV5: ④選択した理由など （自由記述） | IW5: ①本事業で希望する業務 | IX5: ②対応方法 | IZ5: ③類似業務実績 | JB5: ④選択した理由など （自由記述） | JC5: ①本事業で希望する業務 | JD5: ②対応方法 | JF5: ③類似業務実績 | JH5: ④選択した理由など （自由記述） | JI5: ①本事業で希望する業務 | JJ5: ②対応方法 | JL5: ③類似業務実績 | JN5: ④選択した理由など （自由記述） | JO5: ①本事業で希望する業務 | JP5: ②対応方法 | JR5: ③類似業務実績 | JT5: ④選択した理由など （自由記述） | JW5: 中央処理区及び和歌川処理区 | JY5: 中央処理区のみ | KA5: 和歌川処理区のみ | KE5: 管路施設 | KG5: 処理場 | KI5: 汚水ポンプ場 | KK5: 雨水ポンプ場 | KM5: マンホールポンプ | KO5: 貴社が希望する施設の組み合わせ 該当する項目に〇を記入 | KT5: 選択した理由、要望 追加・除外を希望する業務など
L6: 自社で対応 | M6: 応募グループで対応 | N6: 和歌山市 | O6: 和歌山市以外 | R6: 自社で対応 | S6: 応募グループで対応 | T6: 和歌山市 | U6: 和歌山市以外 | X6: 自社で対応 | Y6: 応募グループで対応 | Z6: 和歌山市 | AA6: 和歌山市以外 | AD6: 自社で対応 | AE6: 応募グループで対応 | AF6: 和歌山市 | AG6: 和歌山市以外 | AJ6: 自社で対応 | AK6: 応募グループで対応 | AL6: 和歌山市 | AM6: 和歌山市以外 | AP6: 自社で対応 | AQ6: 応募グループで対応 | AR6: 和歌山市 | AS6: 和歌山市以外 | AV6: 自社で対応 | AW6: 応募グループで対応 | AX6: 和歌山市 | AY6: 和歌山市以外 | BB6: 自社で対応 | BC6: 応募グループで対応 | BD6: 和歌山市 | BE6: 和歌山市以外 | BH6: 自社で対応 | BI6: 応募グループで対応 | BJ6: 和歌山市 | BK6: 和歌山市以外 | BN6: 自社で対応 | BO6: 応募グループで対応 | BP6: 和歌山市 | BQ6: 和歌山市以外 | BT6: 自社で対応 | BU6: 応募グループで対応 | BV6: 和歌山市 | BW6: 和歌山市以外 | BZ6: 自社で対応 | CA6: 応募グループで対応 | CB6: 和歌山市 | CC6: 和歌山市以外 | CF6: 自社で対応 | CG6: 応募グループで対応 | CH6: 和歌山市 | CI6: 和歌山市以外 | CL6: 自社で対応 | CM6: 応募グループで対応 | CN6: 和歌山市 | CO6: 和歌山市以外 | CR6: 自社で対応 | CS6: 応募グループで対応 | CT6: 和歌山市 | CU6: 和歌山市以外 | CX6: 自社で対応 | CY6: 応募グループで対応 | CZ6: 和歌山市 | DA6: 和歌山市以外 | DD6: 自社で対応 | DE6: 応募グループで対応 | DF6: 和歌山市 | DG6: 和歌山市以外 | DJ6: 自社で対応 | DK6: 応募グループで対応 | DL6: 和歌山市 | DM6: 和歌山市以外 | DP6: 自社で対応 | DQ6: 応募グループで対応 | DR6: 和歌山市 | DS6: 和歌山市以外 | DV6: 自社で対応 | DW6: 応募グループで対応 | DX6: 和歌山市 | DY6: 和歌山市以外 | EB6: 自社で対応 | EC6: 応募グループで対応 | ED6: 和歌山市 | EE6: 和歌山市以外 | EH6: 自社で対応 | EI6: 応募グループで対応 | EJ6: 和歌山市 | EK6: 和歌山市以外 | EN6: 自社で対応 | EO6: 応募グループで対応 | EP6: 和歌山市 | EQ6: 和歌山市以外 | ET6: 自社で対応 | EU6: 応募グループで対応 | EV6: 和歌山市 | EW6: 和歌山市以外 | EZ6: 自社で対応 | FA6: 応募グループで対応 | FB6: 和歌山市 | FC6: 和歌山市以外 | FF6: 自社で対応 | FG6: 応募グループで対応 | FH6: 和歌山市 | FI6: 和歌山市以外 | FL6: 自社で対応 | FM6: 応募グループで対応 | FN6: 和歌山市 | FO6: 和歌山市以外 | FR6: 自社で対応 | FS6: 応募グループで対応 | FT6: 和歌山市 | FU6: 和歌山市以外 | FX6: 自社で対応 | FY6: 応募グループで対応 | FZ6: 和歌山市 | GA6: 和歌山市以外 | GD6: 自社で対応 | GE6: 応募グループで対応 | GF6: 和歌山市 | GG6: 和歌山市以外 | GJ6: 自社で対応 | GK6: 応募グループで対応 | GL6: 和歌山市 | GM6: 和歌山市以外 | GP6: 自社で対応 | GQ6: 応募グループで対応 | GR6: 和歌山市 | GS6: 和歌山市以外 | GV6: 自社で対応 | GW6: 応募グループで対応 | GX6: 和歌山市 | GY6: 和歌山市以外 | HB6: 自社で対応 | HC6: 応募グループで対応 | HD6: 和歌山市 | HE6: 和歌山市以外 | HH6: 自社で対応 | HI6: 応募グループで対応 | HJ6: 和歌山市 | HK6: 和歌山市以外 | HN6: 自社で対応 | HO6: 応募グループで対応 | HP6: 和歌山市 | HQ6: 和歌山市以外 | HT6: 自社で対応 | HU6: 応募グループで対応 | HV6: 和歌山市 | HW6: 和歌山市以外 | HZ6: 自社で対応 | IA6: 応募グループで対応 | IB6: 和歌山市 | IC6: 和歌山市以外 | IF6: 自社で対応 | IG6: 応募グループで対応 | IH6: 和歌山市 | II6: 和歌山市以外 | IL6: 自社で対応 | IM6: 応募グループで対応 | IN6: 和歌山市 | IO6: 和歌山市以外 | IR6: 自社で対応 | IS6: 応募グループで対応 | IT6: 和歌山市 | IU6: 和歌山市以外 | IX6: 自社で対応 | IY6: 応募グループで対応 | IZ6: 和歌山市 | JA6: 和歌山市以外 | JD6: 自社で対応 | JE6: 応募グループで対応 | JF6: 和歌山市 | JG6: 和歌山市以外 | JJ6: 自社で対応 | JK6: 応募グループで対応 | JL6: 和歌山市 | JM6: 和歌山市以外 | JP6: 自社で対応 | JQ6: 応募グループで対応 | JR6: 和歌山市 | JS6: 和歌山市以外 | JU6: 対象業務に対する懸念点や配慮を望む事項 | JV6: その理由 | JW6: 希望する施設に〇を記入 | JX6: 選択した理由、要望など （自由記述） | JY6: 希望する施設に〇を記入 | JZ6: 選択した理由、要望など （自由記述） | KA6: 希望する施設に〇を記入 | KB6: 選択した理由、要望など （自由記述） | KC6: 対象処理区に対する懸念点や配慮を望む事項 | KD6: その理由 | KE6: 希望する施設に〇を記入 | KF6: 選択した理由、要望など （自由記述） | KG6: 希望する施設に〇を記入 | KH6: 選択した理由、要望など （自由記述） | KI6: 希望する施設に〇を記入 | KJ6: 選択した理由、要望など （自由記述） | KK6: 希望する施設に〇を記入 | KL6: 選択した理由、要望など （自由記述） | KM6: 希望する施設に〇を記入 | KN6: 選択した理由、要望など （自由記述） | KO6: ①管路施設、②処理場等施設を一体的にウォーターPPPに含める方がよい | KP6: ①管路施設のみウォーターPPPとする方がよい | KQ6: ②処理場等施設のみウォーターPPPとする方がよい | KR6: ①管路施設と②処理場等施設とをそれぞれ個別にウォーターPPPにする方がよい | KS6: どちらとも言えない（わからない） | KU6: 対象業務に対する懸念点や配慮を望む事項 | KV6: その理由 | KW6: 単独で参入 | KX6: グループの代表者 | KY6: グループの下請け企業 | KZ6: その他 | LA6: 選択した理由、ご意見、参加意欲向上のための要望、課題等 | LB6: ウォーターPPP L3.5 更新支援型 | LC6: ウォーターPPP L3.5 更新実施型 | LD6: その他 | LE6: 選択した理由、ご意見、参加意欲向上のための要望、課題等
A7: =調査票!D15 -> 0 | B7: =調査票!D16 -> 0 | C7: =調査票!D17 -> 0 | D7: =調査票!D18 -> 0 | E7: =調査票!D19 -> 0 | F7: =調査票!D20 -> 0 | G7: =調査票!B63 -> 0 | H7: =調査票!B64 -> 0 | I7: =調査票!B65 -> 0 | J7: =調査票!C66 -> その他（ ） | K7: =調査票!F102 -> 0 | L7: =調査票!H102 -> 0 | M7: =調査票!I102 -> 0 | N7: =調査票!J102 -> 0 | O7: =調査票!K102 -> 0 | P7: =調査票!L102 -> 0 | Q7: =調査票!F103 -> 0 | R7: =調査票!H103 -> 0 | S7: =調査票!I103 -> 0 | T7: =調査票!J103 -> 0 | U7: =調査票!K103 -> 0 | V7: =調査票!L103 -> 0 | W7: =調査票!F104 -> 0 | X7: =調査票!I104 -> 0 | Y7: =調査票!I104 -> 0 | Z7: =調査票!J104 -> 0 | AA7: =調査票!K104 -> 0 | AB7: =調査票!L104 -> 0 | AC7: =調査票!F105 -> 0 | AD7: =調査票!H105 -> 0 | AE7: =調査票!I105 -> 0 | AF7: =調査票!J105 -> 0 | AG7: =調査票!K105 -> 0 | AH7: =調査票!L105 -> 0 | AI7: =調査票!F106 -> 0 | AJ7: =調査票!H106 -> 0 | AK7: =調査票!I106 -> 0 | AL7: =調査票!J106 -> 0 | AM7: =調査票!K106 -> 0 | AN7: =調査票!L106 -> 0 | AO7: =調査票!F107 -> 0 | AP7: =調査票!H107 -> 0 | AQ7: =調査票!I107 -> 0 | AR7: =調査票!J107 -> 0 | AS7: =調査票!K107 -> 0 | AT7: =調査票!L107 -> 0 | AU7: =調査票!F108 -> 0 | AV7: =調査票!H108 -> 0 | AW7: =調査票!I108 -> 0 | AX7: =調査票!J108 -> 0 | AY7: =調査票!K108 -> 0 | AZ7: =調査票!L108 -> 0 | BA7: =調査票!F109 -> 0 | BB7: =調査票!H109 -> 0 | BC7: =調査票!I109 -> 0 | BD7: =調査票!J109 -> 0 | BE7: =調査票!K109 -> 0 | BF7: =調査票!L109 -> 0 | BG7: =調査票!F110 -> 0 | BH7: =調査票!H110 -> 0 | BI7: =調査票!I110 -> 0 | BJ7: =調査票!J110 -> 0 | BK7: =調査票!K110 -> 0 | BL7: =調査票!L110 -> 0 | BM7: =調査票!F111 -> 0 | BN7: =調査票!H111 -> 0 | BO7: =調査票!I111 -> 0 | BP7: =調査票!J111 -> 0 | BQ7: =調査票!K111 -> 0 | BR7: =調査票!L111 -> 0 | BS7: =調査票!F112 -> 0 | BT7: =調査票!H112 -> 0 | BU7: =調査票!I112 -> 0 | BV7: =調査票!J112 -> 0 | BW7: =調査票!K112 -> 0 | BX7: =調査票!L112 -> 0 | BY7: =調査票!#REF! -> #REF! | BZ7: =調査票!#REF! -> #REF! | CA7: =調査票!#REF! -> #REF! | CB7: =調査票!#REF! -> #REF! | CC7: =調査票!#REF! -> #REF! | CD7: =調査票!#REF! -> #REF! | CE7: =調査票!F113 -> 0 | CF7: =調査票!H113 -> 0 | CG7: =調査票!I113 -> 0 | CH7: =調査票!J113 -> 0 | CI7: =調査票!K113 -> 0 | CJ7: =調査票!L113 -> 0 | CK7: =調査票!F114 -> 0 | CL7: =調査票!H114 -> 0 | CM7: =調査票!I114 -> 0 | CN7: =調査票!J114 -> 0 | CO7: =調査票!K114 -> 0 | CP7: =調査票!L114 -> 0 | CQ7: =調査票!$F115 -> 0 | CR7: =調査票!$H115 -> 0 | CS7: =調査票!$I115 -> 0 | CT7: =調査票!$J115 -> 0 | CU7: =調査票!$K115 -> 0 | CV7: =調査票!$L115 -> 0 | CW7: =調査票!$F116 -> 0 | CX7: =調査票!$H116 -> 0 | CY7: =調査票!$I116 -> 0 | CZ7: =調査票!$J116 -> 0 | DA7: =調査票!$K116 -> 0 | DB7: =調査票!$L116 -> 0 | DC7: =調査票!$F117 -> 0 | DD7: =調査票!$H117 -> 0 | DE7: =調査票!$I117 -> 0 | DF7: =調査票!$J117 -> 0 | DG7: =調査票!$K117 -> 0 | DH7: =調査票!$L117 -> 0 | DI7: =調査票!$F118 -> 0 | DJ7: =調査票!$H118 -> 0 | DK7: =調査票!$I118 -> 0 | DL7: =調査票!$J118 -> 0 | DM7: =調査票!$K118 -> 0 | DN7: =調査票!$L118 -> 0 | DO7: =調査票!$F119 -> 0 | DP7: =調査票!$H119 -> 0 | DQ7: =調査票!$I119 -> 0 | DR7: =調査票!$J119 -> 0 | DS7: =調査票!$K119 -> 0 | DT7: =調査票!$L119 -> 0 | DU7: =調査票!$F120 -> 0 | DV7: =調査票!$H120 -> 0 | DW7: =調査票!$I120 -> 0 | DX7: =調査票!$J120 -> 0 | DY7: =調査票!$K120 -> 0 | DZ7: =調査票!$L120 -> 0 | EA7: =調査票!$F169 -> 0 | EB7: =調査票!$H169 -> 0 | EC7: =調査票!$I169 -> 0 | ED7: =調査票!$J169 -> 0 | EE7: =調査票!$K169 -> 0 | EF7: =調査票!$L169 -> 0 | EG7: =調査票!$F170 -> 0 | EH7: =調査票!$H170 -> 0 | EI7: =調査票!$I170 -> 0 | EJ7: =調査票!$J170 -> 0 | EK7: =調査票!$K170 -> 0 | EL7: =調査票!$L170 -> 0 | EM7: =調査票!$F171 -> 0 | EN7: =調査票!$H171 -> 0 | EO7: =調査票!$I171 -> 0 | EP7: =調査票!$J171 -> 0 | EQ7: =調査票!$K171 -> 0 | ER7: =調査票!$L171 -> 0 | ES7: =調査票!$F172 -> 0 | ET7: =調査票!$H172 -> 0 | EU7: =調査票!$I172 -> 0 | EV7: =調査票!$J172 -> 0 | EW7: =調査票!$K172 -> 0 | EX7: =調査票!$L172 -> 0 | EY7: =調査票!$F173 -> 0 | EZ7: =調査票!$H173 -> 0 | FA7: =調査票!$I173 -> 0 | FB7: =調査票!$J173 -> 0 | FC7: =調査票!$K173 -> 0 | FD7: =調査票!$L173 -> 0 | FE7: =調査票!#REF! -> #REF! | FF7: =調査票!#REF! -> #REF! | FG7: =調査票!#REF! -> #REF! | FH7: =調査票!#REF! -> #REF! | FI7: =調査票!#REF! -> #REF! | FJ7: =調査票!#REF! -> #REF! | FK7: =調査票!$F174 -> 0 | FL7: =調査票!$H174 -> 0 | FM7: =調査票!$I174 -> 0 | FN7: =調査票!$J174 -> 0 | FO7: =調査票!$K174 -> 0 | FP7: =調査票!$L174 -> 0 | FQ7: =調査票!$F175 -> 0 | FR7: =調査票!$H175 -> 0 | FS7: =調査票!$I175 -> 0 | FT7: =調査票!$J175 -> 0 | FU7: =調査票!$K175 -> 0 | FV7: =調査票!$L175 -> 0 | FW7: =調査票!$F176 -> 0 | FX7: =調査票!$H176 -> 0 | FY7: =調査票!$I176 -> 0 | FZ7: =調査票!$J176 -> 0 | GA7: =調査票!$K176 -> 0 | GB7: =調査票!$L176 -> 0 | GC7: =調査票!$F177 -> 0 | GD7: =調査票!$H177 -> 0 | GE7: =調査票!$I177 -> 0 | GF7: =調査票!$J177 -> 0 | GG7: =調査票!$K177 -> 0 | GH7: =調査票!$L177 -> 0 | GI7: =調査票!$F178 -> 0 | GJ7: =調査票!$H178 -> 0 | GK7: =調査票!$I178 -> 0 | GL7: =調査票!$J178 -> 0 | GM7: =調査票!$K178 -> 0 | GN7: =調査票!$L178 -> 0 | GO7: =調査票!#REF! -> #REF! | GP7: =調査票!#REF! -> #REF! | GQ7: =調査票!#REF! -> #REF! | GR7: =調査票!#REF! -> #REF! | GS7: =調査票!#REF! -> #REF! | GT7: =調査票!#REF! -> #REF! | GU7: =調査票!#REF! -> #REF! | GV7: =調査票!#REF! -> #REF! | ... HF7: =調査票!#REF! -> #REF! | HG7: =調査票!$F179 -> 0 | HH7: =調査票!$H179 -> 0 | HI7: =調査票!$I179 -> 0 | HJ7: =調査票!$J179 -> 0 | HK7: =調査票!$K179 -> 0 | HL7: =調査票!$L179 -> 0 | HM7: =調査票!$F180 -> 0 | HN7: =調査票!$H180 -> 0 | HO7: =調査票!$I180 -> 0 | HP7: =調査票!$J180 -> 0 | HQ7: =調査票!$K180 -> 0 | HR7: =調査票!$L180 -> 0 | HS7: =調査票!$F181 -> 0 | HT7: =調査票!$H181 -> 0 | HU7: =調査票!$I181 -> 0 | HV7: =調査票!$J181 -> 0 | HW7: =調査票!$K181 -> 0 | HX7: =調査票!$L181 -> 0 | HY7: =調査票!$F182 -> 0 | HZ7: =調査票!$H182 -> 0 | IA7: =調査票!$I182 -> 0 | IB7: =調査票!$J182 -> 0 | IC7: =調査票!$K182 -> 0 | ID7: =調査票!$L182 -> 0 | IE7: =調査票!$F183 -> 0 | IF7: =調査票!$H183 -> 0 | IG7: =調査票!$I183 -> 0 | IH7: =調査票!$J183 -> 0 | II7: =調査票!$K183 -> 0 | IJ7: =調査票!$L183 -> 0 | IK7: =調査票!$F184 -> 0 | IL7: =調査票!$H184 -> 0 | IM7: =調査票!$I184 -> 0 | IN7: =調査票!$J184 -> 0 | IO7: =調査票!$K184 -> 0 | IP7: =調査票!$L184 -> 0 | IQ7: =調査票!$F185 -> 0 | IR7: =調査票!$H185 -> 0 | IS7: =調査票!$I185 -> 0 | IT7: =調査票!$J185 -> 0 | IU7: =調査票!$K185 -> 0 | IV7: =調査票!$L185 -> 0 | IW7: =調査票!$F186 -> 0 | IX7: =調査票!$H186 -> 0 | IY7: =調査票!$I186 -> 0 | IZ7: =調査票!$J186 -> 0 | JA7: =調査票!$K186 -> 0 | JB7: =調査票!$L186 -> 0 | JC7: =調査票!$F187 -> 0 | JD7: =調査票!$H187 -> 0 | JE7: =調査票!$I187 -> 0 | JF7: =調査票!$J187 -> 0 | JG7: =調査票!$K187 -> 0 | JH7: =調査票!$L187 -> 0 | JI7: =調査票!$F188 -> 0 | JJ7: =調査票!$H188 -> 0 | JK7: =調査票!$I188 -> 0 | JL7: =調査票!$J188 -> 0 | JM7: =調査票!$K188 -> 0 | JN7: =調査票!$L188 -> 0 | JO7: =調査票!$F189 -> 0 | JP7: =調査票!$H189 -> 0 | JQ7: =調査票!$I189 -> 0 | JR7: =調査票!$J189 -> 0 | JS7: =調査票!$K189 -> 0 | JT7: =調査票!$L189 -> 0 | JU7: =調査票!#REF! -> #REF! | JV7: =調査票!#REF! -> #REF! | JW7: =調査票!#REF! -> #REF! | JX7: =調査票!#REF! -> #REF! | JY7: =調査票!#REF! -> #REF! | JZ7: =調査票!#REF! -> #REF! | KA7: =調査票!#REF! -> #REF! | KB7: =調査票!#REF! -> #REF! | ... KD7: =調査票!#REF! -> #REF! | KE7: =調査票!G212 -> 0 | KF7: =調査票!I212 -> 0 | KG7: =調査票!G214 -> 0 | KH7: =調査票!I214 -> 0 | KI7: =調査票!#REF! -> #REF! | KJ7: =調査票!#REF! -> #REF! | KK7: =調査票!G213 -> 0 | KL7: =調査票!I213 -> 0 | KM7: =調査票!#REF! -> #REF! | KN7: =調査票!#REF! -> #REF! | KO7: =調査票!B218 -> 0 | KP7: =調査票!B219 -> 0 | KQ7: =調査票!B220 -> 0 | KR7: =調査票!B221 -> 0 | KS7: =調査票!B222 -> 0 | KT7: =調査票!G218 -> 0 | KU7: =調査票!B226 -> 0 | KV7: =調査票!F226 -> 0 | KW7: =調査票!B232 -> 0 | KX7: =調査票!B233 -> 0 | KY7: =調査票!B234 -> 0 | KZ7: =調査票!B235 -> 0 | LA7: =調査票!G232 -> 0 | LB7: =調査票!B239 -> 0 | LC7: =調査票!B240 -> 0 | LD7: =調査票!C243 -> その他（ ） | LE7: =調査票!F239 -> 0 | LF7: =調査票!#REF! -> #REF! | LG7: =調査票!D247 -> 0 | LH7: =調査票!D248 -> 0 | LI7: =調査票!D249 -> 0 | LJ7: =調査票!D250 -> 0 | LK7: =調査票!D251 -> 0 | LL7: =調査票!B255 -> 0 | LM7: =調査票!B256 -> 0 | LN7: =調査票!B257 -> 0 | LO7: =調査票!B258 -> 0 | LP7: =調査票!B259 -> 0 | LQ7: =調査票!B260 -> 0 | LR7: =調査票!B261 -> 0 | LS7: =調査票!B262 -> 0 | LT7: =調査票!B263 -> 0 | LU7: =調査票!B264 -> 0 | LV7: =調査票!B265 -> 0 | LW7: =調査票!B266 -> 0 | LX7: =調査票!B267 -> 0 | LY7: =調査票!B268 -> 0 | LZ7: =調査票!B269 -> 0 | MA7: =調査票!C270 -> 0 | MB7: =調査票!B278 -> 0 | MC7: =調査票!B279 -> 0 | MD7: =調査票!B280 -> 0 | ME7: =調査票!B281 -> 0 | MF7: =調査票!B282 -> 0 | MG7: =調査票!B283 -> 0 | MH7: =調査票!B284 -> 0 | MI7: =調査票!B285 -> 0 | MJ7: =調査票!B286 -> 0 | MK7: =調査票!B287 -> 0 | ML7: =調査票!B288 -> 0 | MM7: =調査票!B289 -> 0 | MN7: =調査票!C290 -> その他（ ） | MO7: =調査票!B294 -> 0 | MP7: =調査票!B295 -> 0 | MQ7: =調査票!B296 -> 0 | MR7: =調査票!B297 -> 0 | MS7: =調査票!C298 -> その他( ） | MT7: =調査票!G294 -> 0 | MU7: =調査票!B302 -> 0 | MV7: =調査票!B303 -> 0 | MW7: =調査票!B304 -> 0 | MX7: =調査票!B305 -> 0 | MY7: =調査票!C306 -> その他( ） | MZ7: =調査票!G302 -> 0
